BEGIN:VCALENDAR
VERSION:2.0
PRODID:-//Burdekin Theatre - ECPv4.0.4//NONSGML v1.0//EN
CALSCALE:GREGORIAN
METHOD:PUBLISH
X-WR-CALNAME:Burdekin Theatre
X-ORIGINAL-URL:http://www.burdekintheatre.com.au
X-WR-CALDESC:Events for Burdekin Theatre
BEGIN:VEVENT
DTSTART;TZID="Australia/Brisbane":20190530T113000
DTEND;TZID="Australia/Brisbane":20190530T130000
DTSTAMP:20190228T133756
CREATED:20190131T074546
LAST-MODIFIED:20190222T052408
UID:3493-1559215800-1559221200@www.burdekintheatre.com.au
SUMMARY:Loose Ends
DESCRIPTION:Makers\, creators\, and story lovers; dive into a theatrical adventure that feels like the magic box of a bygone trickster!\nJourney to an eccentric place where gadgets are poetic\, puppets naughty\, machines untamed and circus tricks pop up when you’re least expecting it! This is a world where music appears from lemons\, carrots and bunny’s bums\, monsters go crazy and birthday parties are ferociously celebrated.\nLoose Ends is the story of a man who thinks he can organise all his life in boxes\, and has a knack for getting into mischief. Can this tinkerer learn enough about real friendship to keep him out of trouble?\nThis breathtaking show is highly visual\, emotional and unpredictable. It makes inventions and machines fun and adds a few quirky edges to puppetry.\nSuitable for Children aged 5-12+ years\nTicket Prices\nChildren & Adults $10.00\nAdult with Child (1 & Under) on lap $13.00\nTICKETS ON SALE NOW\n\nBOOK TICKETS ONLINE HERE
URL:http://www.burdekintheatre.com.au/event/loose-ends/
LOCATION:161 Queen Street\, Ayr\, Qld\, 4807\, Australia
GEO:-19.576559;147.404208
X-APPLE-STRUCTURED-LOCATION;VALUE=URI;X-ADDRESS=161 Queen Street Ayr Qld 4807 Australia;X-APPLE-RADIUS=500;X-TITLE=161 Queen Street:geo:147.404208,-19.576559
ATTACH;FMTTYPE=image/png:http://www.burdekintheatre.com.au/en/wp-content/uploads/2019/01/JENS-ICON.png
ORGANIZER;CN="Burdekin%20Shire%20Council":MAILTO:burdekinsc@burdekin.qld.gov.au
END:VEVENT
END:VCALENDAR